BEGIN:VCALENDAR
VERSION:2.0
PRODID:-//Maribo Fotoklub - ECPv6.15.20//NONSGML v1.0//EN
CALSCALE:GREGORIAN
METHOD:PUBLISH
X-ORIGINAL-URL:https://www.maribofotoklub.dk
X-WR-CALDESC:Begivenheder for Maribo Fotoklub
REFRESH-INTERVAL;VALUE=DURATION:PT1H
X-Robots-Tag:noindex
X-PUBLISHED-TTL:PT1H
BEGIN:VTIMEZONE
TZID:Europe/Copenhagen
BEGIN:DAYLIGHT
TZOFFSETFROM:+0100
TZOFFSETTO:+0200
TZNAME:CEST
DTSTART:20220327T010000
END:DAYLIGHT
BEGIN:STANDARD
TZOFFSETFROM:+0200
TZOFFSETTO:+0100
TZNAME:CET
DTSTART:20221030T010000
END:STANDARD
BEGIN:DAYLIGHT
TZOFFSETFROM:+0100
TZOFFSETTO:+0200
TZNAME:CEST
DTSTART:20230326T010000
END:DAYLIGHT
BEGIN:STANDARD
TZOFFSETFROM:+0200
TZOFFSETTO:+0100
TZNAME:CET
DTSTART:20231029T010000
END:STANDARD
BEGIN:DAYLIGHT
TZOFFSETFROM:+0100
TZOFFSETTO:+0200
TZNAME:CEST
DTSTART:20240331T010000
END:DAYLIGHT
BEGIN:STANDARD
TZOFFSETFROM:+0200
TZOFFSETTO:+0100
TZNAME:CET
DTSTART:20241027T010000
END:STANDARD
END:VTIMEZONE
BEGIN:VEVENT
DTSTART;TZID=Europe/Copenhagen:20230615T183000
DTEND;TZID=Europe/Copenhagen:20230615T233000
DTSTAMP:20260424T031805
CREATED:20230113T091139Z
LAST-MODIFIED:20230609T064817Z
UID:588-1686853800-1686871800@www.maribofotoklub.dk
SUMMARY:Fototur til Guldborg
DESCRIPTION:Lystbådehavn – Lokalmiljø – Skansen \nVi mødes kl. 18:30 ved cafeen “Lagunen” ved lystbådehavnen på Lollandssiden
URL:https://www.maribofotoklub.dk/event/fototur-til-guldborg/
END:VEVENT
END:VCALENDAR