BEGIN:VCALENDAR
VERSION:2.0
PRODID:-//Maribo Fotoklub - ECPv6.15.20//NONSGML v1.0//EN
CALSCALE:GREGORIAN
METHOD:PUBLISH
X-ORIGINAL-URL:https://www.maribofotoklub.dk
X-WR-CALDESC:Begivenheder for Maribo Fotoklub
REFRESH-INTERVAL;VALUE=DURATION:PT1H
X-Robots-Tag:noindex
X-PUBLISHED-TTL:PT1H
BEGIN:VTIMEZONE
TZID:Europe/Copenhagen
BEGIN:DAYLIGHT
TZOFFSETFROM:+0100
TZOFFSETTO:+0200
TZNAME:CEST
DTSTART:20220327T010000
END:DAYLIGHT
BEGIN:STANDARD
TZOFFSETFROM:+0200
TZOFFSETTO:+0100
TZNAME:CET
DTSTART:20221030T010000
END:STANDARD
BEGIN:DAYLIGHT
TZOFFSETFROM:+0100
TZOFFSETTO:+0200
TZNAME:CEST
DTSTART:20230326T010000
END:DAYLIGHT
BEGIN:STANDARD
TZOFFSETFROM:+0200
TZOFFSETTO:+0100
TZNAME:CET
DTSTART:20231029T010000
END:STANDARD
BEGIN:DAYLIGHT
TZOFFSETFROM:+0100
TZOFFSETTO:+0200
TZNAME:CEST
DTSTART:20240331T010000
END:DAYLIGHT
BEGIN:STANDARD
TZOFFSETFROM:+0200
TZOFFSETTO:+0100
TZNAME:CET
DTSTART:20241027T010000
END:STANDARD
END:VTIMEZONE
BEGIN:VEVENT
DTSTART;TZID=Europe/Copenhagen:20230713T193000
DTEND;TZID=Europe/Copenhagen:20230713T213000
DTSTAMP:20260424T015326
CREATED:20230710T061648Z
LAST-MODIFIED:20230710T134316Z
UID:949-1689276600-1689283800@www.maribofotoklub.dk
SUMMARY:Fototur til Bønnersvig
DESCRIPTION:Udgangspunk er parkeringspladsen ved kajakklubben i Maribo (Refshalevej 52\, 4930 Maribo). \nForbi sundhedscentret hvor vi kan se ud over søen og videre over engen til Bønnersvig\n(hvis du selv medbringer drikkevarer er der her borde med mulighed for pitstop). \n \nEngen ved Bønnersvig er også udflugtsmål for mange naturvandringer idet der her findes mange vilde og sjældne orkideer. \nVidere langs stierne på golfbanen hvor vi via ”den sorte sti” atter er ved Sundhedscentret og kajakklubbens parkeringsplads. \n  \nKaffe på Lenes terrasse der ligger 186 m fra parkeringspladsen. (Refshalevej 85) \n \nRuten er ca. 5 km\, men kan afkortes. \nAfstand mellem parkeringsplads og Lenes terrasse er ca. 187 m
URL:https://www.maribofotoklub.dk/event/13-7-23-fototur-til-boennersvig/
END:VEVENT
END:VCALENDAR