BEGIN:VCALENDAR
VERSION:2.0
PRODID:-//Maribo Fotoklub - ECPv6.15.20//NONSGML v1.0//EN
CALSCALE:GREGORIAN
METHOD:PUBLISH
X-WR-CALNAME:Maribo Fotoklub
X-ORIGINAL-URL:https://www.maribofotoklub.dk
X-WR-CALDESC:Begivenheder for Maribo Fotoklub
REFRESH-INTERVAL;VALUE=DURATION:PT1H
X-Robots-Tag:noindex
X-PUBLISHED-TTL:PT1H
BEGIN:VTIMEZONE
TZID:Europe/Copenhagen
BEGIN:DAYLIGHT
TZOFFSETFROM:+0100
TZOFFSETTO:+0200
TZNAME:CEST
DTSTART:20220327T010000
END:DAYLIGHT
BEGIN:STANDARD
TZOFFSETFROM:+0200
TZOFFSETTO:+0100
TZNAME:CET
DTSTART:20221030T010000
END:STANDARD
BEGIN:DAYLIGHT
TZOFFSETFROM:+0100
TZOFFSETTO:+0200
TZNAME:CEST
DTSTART:20230326T010000
END:DAYLIGHT
BEGIN:STANDARD
TZOFFSETFROM:+0200
TZOFFSETTO:+0100
TZNAME:CET
DTSTART:20231029T010000
END:STANDARD
BEGIN:DAYLIGHT
TZOFFSETFROM:+0100
TZOFFSETTO:+0200
TZNAME:CEST
DTSTART:20240331T010000
END:DAYLIGHT
BEGIN:STANDARD
TZOFFSETFROM:+0200
TZOFFSETTO:+0100
TZNAME:CET
DTSTART:20241027T010000
END:STANDARD
END:VTIMEZONE
BEGIN:VEVENT
DTSTART;TZID=Europe/Copenhagen:20230921T190000
DTEND;TZID=Europe/Copenhagen:20230921T213000
DTSTAMP:20260423T225840
CREATED:20230908T065724Z
LAST-MODIFIED:20230908T065821Z
UID:1015-1695322800-1695331800@www.maribofotoklub.dk
SUMMARY:Aflevering til Region Syds efterårskonkurrence
DESCRIPTION:2 billeder i hver kategori.\nMonochrome\, farve-papir og serier \n  \nPris: \nen kategori 30 kr.\nto kategorier 40 kr\,\ntre kategorier 50 kr. \n  \nHusk lige og aftalte  penge til Lene  (Region Syd har ingen MobilePay) \n  \nDet er Maribo fotoklub\, der står for afviklingen\, der sker på det sædvanlige sted – 3F’s hus i Østergade \n 
URL:https://www.maribofotoklub.dk/event/aflevering-til-region-syds-efteraarskonkurrence/
END:VEVENT
END:VCALENDAR