BEGIN:VCALENDAR
VERSION:2.0
PRODID:-//Maribo Fotoklub - ECPv6.15.20//NONSGML v1.0//EN
CALSCALE:GREGORIAN
METHOD:PUBLISH
X-ORIGINAL-URL:https://www.maribofotoklub.dk
X-WR-CALDESC:Begivenheder for Maribo Fotoklub
REFRESH-INTERVAL;VALUE=DURATION:PT1H
X-Robots-Tag:noindex
X-PUBLISHED-TTL:PT1H
BEGIN:VTIMEZONE
TZID:Europe/Copenhagen
BEGIN:DAYLIGHT
TZOFFSETFROM:+0100
TZOFFSETTO:+0200
TZNAME:CEST
DTSTART:20220327T010000
END:DAYLIGHT
BEGIN:STANDARD
TZOFFSETFROM:+0200
TZOFFSETTO:+0100
TZNAME:CET
DTSTART:20221030T010000
END:STANDARD
BEGIN:DAYLIGHT
TZOFFSETFROM:+0100
TZOFFSETTO:+0200
TZNAME:CEST
DTSTART:20230326T010000
END:DAYLIGHT
BEGIN:STANDARD
TZOFFSETFROM:+0200
TZOFFSETTO:+0100
TZNAME:CET
DTSTART:20231029T010000
END:STANDARD
BEGIN:DAYLIGHT
TZOFFSETFROM:+0100
TZOFFSETTO:+0200
TZNAME:CEST
DTSTART:20240331T010000
END:DAYLIGHT
BEGIN:STANDARD
TZOFFSETFROM:+0200
TZOFFSETTO:+0100
TZNAME:CET
DTSTART:20241027T010000
END:STANDARD
END:VTIMEZONE
BEGIN:VEVENT
DTSTART;TZID=Europe/Copenhagen:20231214T183000
DTEND;TZID=Europe/Copenhagen:20231214T213000
DTSTAMP:20260423T183634
CREATED:20230908T074049Z
LAST-MODIFIED:20231215T053051Z
UID:1041-1702578600-1702589400@www.maribofotoklub.dk
SUMMARY:Juleafslutning
DESCRIPTION:Juleafslutning med … \nÅrets billede \nog \nårets fotografer
URL:https://www.maribofotoklub.dk/event/juleafslutning-2/
LOCATION:Klublokalerne i Stokkemarke\, Studiestræde 5\, Stokkemarke\, 4952\, Danmark
END:VEVENT
END:VCALENDAR