BEGIN:VCALENDAR
VERSION:2.0
PRODID:-//Maribo Fotoklub - ECPv6.15.20//NONSGML v1.0//EN
CALSCALE:GREGORIAN
METHOD:PUBLISH
X-ORIGINAL-URL:https://www.maribofotoklub.dk
X-WR-CALDESC:Begivenheder for Maribo Fotoklub
REFRESH-INTERVAL;VALUE=DURATION:PT1H
X-Robots-Tag:noindex
X-PUBLISHED-TTL:PT1H
BEGIN:VTIMEZONE
TZID:Europe/Copenhagen
BEGIN:DAYLIGHT
TZOFFSETFROM:+0100
TZOFFSETTO:+0200
TZNAME:CEST
DTSTART:20250330T010000
END:DAYLIGHT
BEGIN:STANDARD
TZOFFSETFROM:+0200
TZOFFSETTO:+0100
TZNAME:CET
DTSTART:20251026T010000
END:STANDARD
BEGIN:DAYLIGHT
TZOFFSETFROM:+0100
TZOFFSETTO:+0200
TZNAME:CEST
DTSTART:20260329T010000
END:DAYLIGHT
BEGIN:STANDARD
TZOFFSETFROM:+0200
TZOFFSETTO:+0100
TZNAME:CET
DTSTART:20261025T010000
END:STANDARD
BEGIN:DAYLIGHT
TZOFFSETFROM:+0100
TZOFFSETTO:+0200
TZNAME:CEST
DTSTART:20270328T010000
END:DAYLIGHT
BEGIN:STANDARD
TZOFFSETFROM:+0200
TZOFFSETTO:+0100
TZNAME:CET
DTSTART:20271031T010000
END:STANDARD
END:VTIMEZONE
BEGIN:VEVENT
DTSTART;TZID=Europe/Copenhagen:20260423T080000
DTEND;TZID=Europe/Copenhagen:20260423T170000
DTSTAMP:20260420T104733
CREATED:20260130T120856Z
LAST-MODIFIED:20260130T120856Z
UID:2121-1776931200-1776963600@www.maribofotoklub.dk
SUMMARY:Digitalaften
DESCRIPTION:Ti billeder pr. autor til debat
URL:https://www.maribofotoklub.dk/event/digitalaften/
LOCATION:Klublokalerne i Stokkemarke\, Studiestræde 5\, Stokkemarke\, 4952\, Danmark
END:VEVENT
BEGIN:VEVENT
DTSTART;TZID=Europe/Copenhagen:20260430T190000
DTEND;TZID=Europe/Copenhagen:20260430T213000
DTSTAMP:20260420T104733
CREATED:20260130T121051Z
LAST-MODIFIED:20260130T121051Z
UID:2123-1777575600-1777584600@www.maribofotoklub.dk
SUMMARY:Afvikling af klubkonkurrence 2/26
DESCRIPTION:
URL:https://www.maribofotoklub.dk/event/afvikling-af-klubkonkurrence-2-26/
LOCATION:Klublokalerne i Stokkemarke\, Studiestræde 5\, Stokkemarke\, 4952\, Danmark
END:VEVENT
BEGIN:VEVENT
DTSTART;VALUE=DATE:20260507
DTEND;VALUE=DATE:20260511
DTSTAMP:20260420T104733
CREATED:20260130T122928Z
LAST-MODIFIED:20260130T122928Z
UID:2135-1778112000-1778457599@www.maribofotoklub.dk
SUMMARY:Klubtur til Bornholm
DESCRIPTION:
URL:https://www.maribofotoklub.dk/event/klubtur-til-bornholm-2/
LOCATION:Bornholm\, Smedeløkken 60\, Allinge\, 3770\, Denmark
END:VEVENT
BEGIN:VEVENT
DTSTART;TZID=Europe/Copenhagen:20260521T190000
DTEND;TZID=Europe/Copenhagen:20260521T213000
DTSTAMP:20260420T104733
CREATED:20260130T123313Z
LAST-MODIFIED:20260130T123313Z
UID:2137-1779390000-1779399000@www.maribofotoklub.dk
SUMMARY:Aflevering til SDF - Den Nationale
DESCRIPTION:Aflevering til SDF – Den Nationale \n  \nEvaluering af klubkonkurrencer
URL:https://www.maribofotoklub.dk/event/aflevering-til-sdf-den-nationale-2/
LOCATION:Klublokalerne i Stokkemarke\, Studiestræde 5\, Stokkemarke\, 4952\, Danmark
END:VEVENT
BEGIN:VEVENT
DTSTART;TZID=Europe/Copenhagen:20260528T190000
DTEND;TZID=Europe/Copenhagen:20260528T213000
DTSTAMP:20260420T104733
CREATED:20260130T123527Z
LAST-MODIFIED:20260130T123527Z
UID:2139-1779994800-1780003800@www.maribofotoklub.dk
SUMMARY:Afvikling af Region Syds forårskonkurrence
DESCRIPTION:
URL:https://www.maribofotoklub.dk/event/afvikling-af-region-syds-foraarskonkurrence-2/
END:VEVENT
BEGIN:VEVENT
DTSTART;TZID=Europe/Copenhagen:20260604T190000
DTEND;TZID=Europe/Copenhagen:20260604T213000
DTSTAMP:20260420T104733
CREATED:20260130T123925Z
LAST-MODIFIED:20260130T123925Z
UID:2141-1780599600-1780608600@www.maribofotoklub.dk
SUMMARY:Foto fra tårnet på Radsted Kirke
DESCRIPTION:Herfra kan ses det meste af Lolland\n(Til kirken knyttes en lang række af sagn og rædselshistorier) \n  \nKaffe/kage – Karin
URL:https://www.maribofotoklub.dk/event/foto-fra-taarnet-paa-radsted-kirke/
LOCATION:Møllevænget 12\, 4990 Sakskøbing\, Møllevænget 12\, Sakskøbing\, 4990\, Denmark
END:VEVENT
BEGIN:VEVENT
DTSTART;TZID=Europe/Copenhagen:20260620T100000
DTEND;TZID=Europe/Copenhagen:20260620T180000
DTSTAMP:20260420T104733
CREATED:20260130T124932Z
LAST-MODIFIED:20260130T125955Z
UID:2143-1781949600-1781978400@www.maribofotoklub.dk
SUMMARY:Fototur med "Anemonen" på Søndersø
DESCRIPTION:Medbring madkurv til “frokost i det grønne” \n(Sædvanlig ledsager er altid velkommen) \nhttps://www.visitlolland-falster.dk/turist/planlaeg-din-ferie/turbaaden-anemonen-gdk978004
URL:https://www.maribofotoklub.dk/event/fototur-med-anemonen-paa-soendersoe/
LOCATION:Torvet\, Maribo\, Rådhuset\, 4930\, Denmark
END:VEVENT
END:VCALENDAR