BEGIN:VCALENDAR
VERSION:2.0
PRODID:-//Maribo Fotoklub - ECPv6.15.20//NONSGML v1.0//EN
CALSCALE:GREGORIAN
METHOD:PUBLISH
X-ORIGINAL-URL:https://www.maribofotoklub.dk
X-WR-CALDESC:Begivenheder for Maribo Fotoklub
REFRESH-INTERVAL;VALUE=DURATION:PT1H
X-Robots-Tag:noindex
X-PUBLISHED-TTL:PT1H
BEGIN:VTIMEZONE
TZID:Europe/Copenhagen
BEGIN:DAYLIGHT
TZOFFSETFROM:+0100
TZOFFSETTO:+0200
TZNAME:CEST
DTSTART:20220327T010000
END:DAYLIGHT
BEGIN:STANDARD
TZOFFSETFROM:+0200
TZOFFSETTO:+0100
TZNAME:CET
DTSTART:20221030T010000
END:STANDARD
BEGIN:DAYLIGHT
TZOFFSETFROM:+0100
TZOFFSETTO:+0200
TZNAME:CEST
DTSTART:20230326T010000
END:DAYLIGHT
BEGIN:STANDARD
TZOFFSETFROM:+0200
TZOFFSETTO:+0100
TZNAME:CET
DTSTART:20231029T010000
END:STANDARD
BEGIN:DAYLIGHT
TZOFFSETFROM:+0100
TZOFFSETTO:+0200
TZNAME:CEST
DTSTART:20240331T010000
END:DAYLIGHT
BEGIN:STANDARD
TZOFFSETFROM:+0200
TZOFFSETTO:+0100
TZNAME:CET
DTSTART:20241027T010000
END:STANDARD
END:VTIMEZONE
BEGIN:VEVENT
DTSTART;TZID=Europe/Copenhagen:20230302T193000
DTEND;TZID=Europe/Copenhagen:20230302T233000
DTSTAMP:20260424T063227
CREATED:20230113T081632Z
LAST-MODIFIED:20230113T081632Z
UID:560-1677785400-1677799800@www.maribofotoklub.dk
SUMMARY:Peter Birk i Næstved
DESCRIPTION:Historien i billedet – Hvad skal vi med alle de billeder ? – Vurdering \nPeter Birk fra Silkeborg holder foredrag i emnerne\, samt udstiller i galeriet. \n(nærmere følger)
URL:https://www.maribofotoklub.dk/event/peter-birk-i-naestved/
END:VEVENT
BEGIN:VEVENT
DTSTART;TZID=Europe/Copenhagen:20230309T190000
DTEND;TZID=Europe/Copenhagen:20230309T233000
DTSTAMP:20260424T063227
CREATED:20230113T081842Z
LAST-MODIFIED:20230303T143604Z
UID:562-1678388400-1678404600@www.maribofotoklub.dk
SUMMARY:Spontanbedømmelse
DESCRIPTION:Vi spontanbedømmer egne bilkeder. \nFarve og Mone (max. to billeder i hver kategori) \nDommer: Jørgen Erik
URL:https://www.maribofotoklub.dk/event/spontanbedoemmelse/
END:VEVENT
BEGIN:VEVENT
DTSTART;TZID=Europe/Copenhagen:20230316T190000
DTEND;TZID=Europe/Copenhagen:20230316T213000
DTSTAMP:20260424T063227
CREATED:20230122T131659Z
LAST-MODIFIED:20230309T202450Z
UID:616-1678993200-1679002200@www.maribofotoklub.dk
SUMMARY:Aflevering til Region Syds forårskonkurrence
DESCRIPTION:Aflevering til Region Syds forårskonkurrence \nRegion Syd
URL:https://www.maribofotoklub.dk/event/16-3-aflevering-til-region-syds-foraarskonkurrence/
END:VEVENT
BEGIN:VEVENT
DTSTART;TZID=Europe/Copenhagen:20230323T190000
DTEND;TZID=Europe/Copenhagen:20230323T233000
DTSTAMP:20260424T063227
CREATED:20230122T072942Z
LAST-MODIFIED:20230122T073017Z
UID:614-1679598000-1679614200@www.maribofotoklub.dk
SUMMARY:Aflevering til klubkonkurrence 2/23
DESCRIPTION:Aflevering til klubkonkurrence 2/23 \n  \nKlubkonkurrence \n \n 
URL:https://www.maribofotoklub.dk/event/aflevering-til-klubkonkurrence-2-23/
END:VEVENT
BEGIN:VEVENT
DTSTART;TZID=Europe/Copenhagen:20230330T193000
DTEND;TZID=Europe/Copenhagen:20230330T233000
DTSTAMP:20260424T063227
CREATED:20230122T132059Z
LAST-MODIFIED:20230321T073255Z
UID:618-1680204600-1680219000@www.maribofotoklub.dk
SUMMARY:Evaluering af ikke antagne på klubkonkurrence 1/23
DESCRIPTION:30/3 Evaluering af ikke antagne på klubkonkurrence 1/23
URL:https://www.maribofotoklub.dk/event/30-3-evaluering-af-ikke-antagne-paa-klubkonkurrence-1-23/
END:VEVENT
END:VCALENDAR