BEGIN:VCALENDAR
VERSION:2.0
PRODID:-//Maribo Fotoklub - ECPv6.15.20//NONSGML v1.0//EN
CALSCALE:GREGORIAN
METHOD:PUBLISH
X-ORIGINAL-URL:https://www.maribofotoklub.dk
X-WR-CALDESC:Begivenheder for Maribo Fotoklub
REFRESH-INTERVAL;VALUE=DURATION:PT1H
X-Robots-Tag:noindex
X-PUBLISHED-TTL:PT1H
BEGIN:VTIMEZONE
TZID:Europe/Copenhagen
BEGIN:DAYLIGHT
TZOFFSETFROM:+0100
TZOFFSETTO:+0200
TZNAME:CEST
DTSTART:20220327T010000
END:DAYLIGHT
BEGIN:STANDARD
TZOFFSETFROM:+0200
TZOFFSETTO:+0100
TZNAME:CET
DTSTART:20221030T010000
END:STANDARD
BEGIN:DAYLIGHT
TZOFFSETFROM:+0100
TZOFFSETTO:+0200
TZNAME:CEST
DTSTART:20230326T010000
END:DAYLIGHT
BEGIN:STANDARD
TZOFFSETFROM:+0200
TZOFFSETTO:+0100
TZNAME:CET
DTSTART:20231029T010000
END:STANDARD
BEGIN:DAYLIGHT
TZOFFSETFROM:+0100
TZOFFSETTO:+0200
TZNAME:CEST
DTSTART:20240331T010000
END:DAYLIGHT
BEGIN:STANDARD
TZOFFSETFROM:+0200
TZOFFSETTO:+0100
TZNAME:CET
DTSTART:20241027T010000
END:STANDARD
END:VTIMEZONE
BEGIN:VEVENT
DTSTART;TZID=Europe/Copenhagen:20230413T190000
DTEND;TZID=Europe/Copenhagen:20230413T233000
DTSTAMP:20260424T050303
CREATED:20230113T082701Z
LAST-MODIFIED:20230113T085750Z
UID:571-1681412400-1681428600@www.maribofotoklub.dk
SUMMARY:Aflevering til SDF - Den Nationale
DESCRIPTION:
URL:https://www.maribofotoklub.dk/event/afvikling-af-klubkonkurrence-2-23-2/
END:VEVENT
BEGIN:VEVENT
DTSTART;TZID=Europe/Copenhagen:20230420T190000
DTEND;TZID=Europe/Copenhagen:20230420T233000
DTSTAMP:20260424T050303
CREATED:20230113T082843Z
LAST-MODIFIED:20230113T090843Z
UID:573-1682017200-1682033400@www.maribofotoklub.dk
SUMMARY:Månedens billede med tema
DESCRIPTION:Tema: blødt/hårdt \nEt billede tilladt i hver kategori
URL:https://www.maribofotoklub.dk/event/maanedens-billede-med-tema/
END:VEVENT
BEGIN:VEVENT
DTSTART;TZID=Europe/Copenhagen:20230427T190000
DTEND;TZID=Europe/Copenhagen:20230427T233000
DTSTAMP:20260424T050303
CREATED:20230113T083019Z
LAST-MODIFIED:20230421T065303Z
UID:575-1682622000-1682638200@www.maribofotoklub.dk
SUMMARY:Gæst i klubben
DESCRIPTION:Aftenens gæst – \nAllan Dahl
URL:https://www.maribofotoklub.dk/event/gaest-i-klubben/
END:VEVENT
END:VCALENDAR