BEGIN:VCALENDAR
VERSION:2.0
PRODID:-//Maribo Fotoklub - ECPv6.15.20//NONSGML v1.0//EN
CALSCALE:GREGORIAN
METHOD:PUBLISH
X-WR-CALNAME:Maribo Fotoklub
X-ORIGINAL-URL:https://www.maribofotoklub.dk
X-WR-CALDESC:Begivenheder for Maribo Fotoklub
REFRESH-INTERVAL;VALUE=DURATION:PT1H
X-Robots-Tag:noindex
X-PUBLISHED-TTL:PT1H
BEGIN:VTIMEZONE
TZID:Europe/Copenhagen
BEGIN:DAYLIGHT
TZOFFSETFROM:+0100
TZOFFSETTO:+0200
TZNAME:CEST
DTSTART:20220327T010000
END:DAYLIGHT
BEGIN:STANDARD
TZOFFSETFROM:+0200
TZOFFSETTO:+0100
TZNAME:CET
DTSTART:20221030T010000
END:STANDARD
BEGIN:DAYLIGHT
TZOFFSETFROM:+0100
TZOFFSETTO:+0200
TZNAME:CEST
DTSTART:20230326T010000
END:DAYLIGHT
BEGIN:STANDARD
TZOFFSETFROM:+0200
TZOFFSETTO:+0100
TZNAME:CET
DTSTART:20231029T010000
END:STANDARD
BEGIN:DAYLIGHT
TZOFFSETFROM:+0100
TZOFFSETTO:+0200
TZNAME:CEST
DTSTART:20240331T010000
END:DAYLIGHT
BEGIN:STANDARD
TZOFFSETFROM:+0200
TZOFFSETTO:+0100
TZNAME:CET
DTSTART:20241027T010000
END:STANDARD
END:VTIMEZONE
BEGIN:VEVENT
DTSTART;TZID=Europe/Copenhagen:20231102T190000
DTEND;TZID=Europe/Copenhagen:20231102T213000
DTSTAMP:20260423T183512
CREATED:20230908T072132Z
LAST-MODIFIED:20230908T072301Z
UID:1027-1698951600-1698960600@www.maribofotoklub.dk
SUMMARY:Aflevering til klubkonkurrence 4/23
DESCRIPTION:Klubkonkurrence
URL:https://www.maribofotoklub.dk/event/aflevering-til-klubkonkurrence-4-3/
END:VEVENT
BEGIN:VEVENT
DTSTART;TZID=Europe/Copenhagen:20231109T190000
DTEND;TZID=Europe/Copenhagen:20231109T213000
DTSTAMP:20260423T183512
CREATED:20230908T072435Z
LAST-MODIFIED:20231103T183050Z
UID:1030-1699556400-1699565400@www.maribofotoklub.dk
SUMMARY:Afvikling af klubkonkurrence 3/23
DESCRIPTION:Dommer: Leif Jensen – Vordingborg
URL:https://www.maribofotoklub.dk/event/afvikling-af-klubkonkurrence-3-23/
LOCATION:Klublokalerne i Stokkemarke\, Studiestræde 5\, Stokkemarke\, 4952\, Danmark
END:VEVENT
BEGIN:VEVENT
DTSTART;TZID=Europe/Copenhagen:20231116T190000
DTEND;TZID=Europe/Copenhagen:20231116T213000
DTSTAMP:20260423T183512
CREATED:20230908T073055Z
LAST-MODIFIED:20231103T182708Z
UID:1032-1700161200-1700170200@www.maribofotoklub.dk
SUMMARY:Aflevering til årets billede
DESCRIPTION:Læs reglerne for aflevering til Årets Billede \n  \nEvaluering af klubkonkurrence 3/23
URL:https://www.maribofotoklub.dk/event/aflevering-til-aarets-billede/
LOCATION:Klublokalerne i Stokkemarke\, Studiestræde 5\, Stokkemarke\, 4952\, Danmark
END:VEVENT
BEGIN:VEVENT
DTSTART;TZID=Europe/Copenhagen:20231123T190000
DTEND;TZID=Europe/Copenhagen:20231123T213000
DTSTAMP:20260423T183512
CREATED:20230908T073410Z
LAST-MODIFIED:20231103T183013Z
UID:1035-1700766000-1700775000@www.maribofotoklub.dk
SUMMARY:Gæst i klubben
DESCRIPTION:Aftenens gæst\nClaus Carlsen fra Downstairs
URL:https://www.maribofotoklub.dk/event/gaest-i-klubben-2/
LOCATION:Klublokalerne i Stokkemarke\, Studiestræde 5\, Stokkemarke\, 4952\, Danmark
END:VEVENT
BEGIN:VEVENT
DTSTART;TZID=Europe/Copenhagen:20231130T193000
DTEND;TZID=Europe/Copenhagen:20231130T213000
DTSTAMP:20260423T183512
CREATED:20230908T073654Z
LAST-MODIFIED:20231103T182842Z
UID:1037-1701372600-1701379800@www.maribofotoklub.dk
SUMMARY:Afvikling af Region Syds efterårskonkurrence
DESCRIPTION:Maribo Fotoklub står for afviklingen
URL:https://www.maribofotoklub.dk/event/afvikling-af-region-syds-efteraarskonkurrence/
LOCATION:3F Lolland\, Maribo\, Østergade 29\, Maribo\, 4930\, Danmark
END:VEVENT
END:VCALENDAR