BEGIN:VCALENDAR
VERSION:2.0
PRODID:-//Maribo Fotoklub - ECPv6.15.20//NONSGML v1.0//EN
CALSCALE:GREGORIAN
METHOD:PUBLISH
X-ORIGINAL-URL:https://www.maribofotoklub.dk
X-WR-CALDESC:Begivenheder for Maribo Fotoklub
REFRESH-INTERVAL;VALUE=DURATION:PT1H
X-Robots-Tag:noindex
X-PUBLISHED-TTL:PT1H
BEGIN:VTIMEZONE
TZID:Europe/Copenhagen
BEGIN:DAYLIGHT
TZOFFSETFROM:+0100
TZOFFSETTO:+0200
TZNAME:CEST
DTSTART:20230326T010000
END:DAYLIGHT
BEGIN:STANDARD
TZOFFSETFROM:+0200
TZOFFSETTO:+0100
TZNAME:CET
DTSTART:20231029T010000
END:STANDARD
BEGIN:DAYLIGHT
TZOFFSETFROM:+0100
TZOFFSETTO:+0200
TZNAME:CEST
DTSTART:20240331T010000
END:DAYLIGHT
BEGIN:STANDARD
TZOFFSETFROM:+0200
TZOFFSETTO:+0100
TZNAME:CET
DTSTART:20241027T010000
END:STANDARD
BEGIN:DAYLIGHT
TZOFFSETFROM:+0100
TZOFFSETTO:+0200
TZNAME:CEST
DTSTART:20250330T010000
END:DAYLIGHT
BEGIN:STANDARD
TZOFFSETFROM:+0200
TZOFFSETTO:+0100
TZNAME:CET
DTSTART:20251026T010000
END:STANDARD
END:VTIMEZONE
BEGIN:VEVENT
DTSTART;TZID=Europe/Copenhagen:20240104T190000
DTEND;TZID=Europe/Copenhagen:20240104T213000
DTSTAMP:20260423T154623
CREATED:20230908T074328Z
LAST-MODIFIED:20240104T091938Z
UID:1043-1704394800-1704403800@www.maribofotoklub.dk
SUMMARY:Klubaften aflyst
DESCRIPTION:På grund af vejrsi9tuationen afvikles sildebord først d. 11/1
URL:https://www.maribofotoklub.dk/event/sildebord-og-godt-nytaar-2/
LOCATION:Klublokalerne i Stokkemarke\, Studiestræde 5\, Stokkemarke\, 4952\, Danmark
END:VEVENT
BEGIN:VEVENT
DTSTART;TZID=Europe/Copenhagen:20240111T190000
DTEND;TZID=Europe/Copenhagen:20240111T213000
DTSTAMP:20260423T154623
CREATED:20231230T184216Z
LAST-MODIFIED:20240104T092108Z
UID:1172-1704999600-1705008600@www.maribofotoklub.dk
SUMMARY:Sildebord og "Godt Nytår"
DESCRIPTION:Vi ønsker hinanden godt nytår med det traditionelle sildebord
URL:https://www.maribofotoklub.dk/event/programlaegning-2/
LOCATION:Klublokalerne i Stokkemarke\, Studiestræde 5\, Stokkemarke\, 4952\, Danmark
END:VEVENT
BEGIN:VEVENT
DTSTART;TZID=Europe/Copenhagen:20240118T190000
DTEND;TZID=Europe/Copenhagen:20240118T213000
DTSTAMP:20260423T154623
CREATED:20240112T115417Z
LAST-MODIFIED:20240112T115417Z
UID:1185-1705604400-1705613400@www.maribofotoklub.dk
SUMMARY:Programlægning - Digital (10 stk.)
DESCRIPTION:Vi lægger program for vinter/forår 2024\nDom med dine ideer – det er i aften de skal frem. \nMedbring 10 “nye” billeder til debat (USB) – papir er altid velkomne
URL:https://www.maribofotoklub.dk/event/programlaegning-digital-10-stk/
LOCATION:Klublokalerne i Stokkemarke\, Studiestræde 5\, Stokkemarke\, 4952\, Danmark
END:VEVENT
BEGIN:VEVENT
DTSTART;TZID=Europe/Copenhagen:20240125T190000
DTEND;TZID=Europe/Copenhagen:20240125T210000
DTSTAMP:20260423T154623
CREATED:20240119T065240Z
LAST-MODIFIED:20240119T072758Z
UID:1189-1706209200-1706216400@www.maribofotoklub.dk
SUMMARY:Aflevering til klubkonkurrence 1/24
DESCRIPTION:Aflevering til klubkonkurrence 1/24 \nKlubkonkurrence
URL:https://www.maribofotoklub.dk/event/aflevering-til-klubkonkurrence-1-24/
LOCATION:Klublokalerne i Stokkemarke\, Studiestræde 5\, Stokkemarke\, 4952\, Danmark
END:VEVENT
END:VCALENDAR